Workbook

Sheet 封面
A1: 2022年部门预算公开表
D4: 单位编码： | E4: 437002
D5: 单位名称： | E5: 岳阳县民政局机关

Sheet 目录
B1: 部门预算公开表
B3: 一、部门预算报表
B4: 1 | C4: 收支总表
B5: 2 | C5: 收入总表
B6: 3 | C6: 支出总表
B7: 4 | C7: 支出预算分类汇总表（按政府预算经济分类）
B8: 5 | C8: 支出预算分类汇总表（按部门预算经济分类）
B9: 6 | C9: 财政拨款收支总表
B10: 7 | C10: 一般公共预算支出表
B11: 8 | C11: 一般公共预算基本支出表
B12: 9 | C12: 一般公共预算基本支出表--人员经费(工资福利支出)(按政府预算经济分类)
B13: 10 | C13: 一般公共预算基本支出表--人员经费(工资福利支出)(按部门预算经济分类)
B14: 11 | C14: 一般公共预算基本支出表--人员经费(对个人和家庭的补助)(按政府预算经济分类)
B15: 12 | C15: 一般公共预算基本支出表--人员经费(对个人和家庭的补助)（按部门预算经济分类）
... B26: 23 | C26: 部门整体支出绩效目标表

Sheet 1收支总表
A2: 收支总表
A3: 单位：437002-岳阳县民政局本级 | G3: 金额单位：万元
A4: 收入 | C4: 支出
A5: 项目 | B5: 预算数 | C5: 项目（按功能分类） | D5: 预算数 | E5: 项目（按部门预算经济分类） | F5: 预算数 | G5: 项目（按政府预算经济分类） | H5: 预算数
A6: 一、一般公共预算拨款收入 | B6: 12359.33 | C6: （一）一般公共服务支出 | E6: 一、基本支出 | F6: 575.75595 | G6: 一、机关工资福利支出 | H6: 548.75595
A7: 经费拨款 | B7: 12359.33 | C7: （二）外交支出 | E7: 工资福利支出 | F7: 548.75595 | G7: 二、机关商品和服务支出 | H7: 40.5
A8: 纳入一般公共预算管理的非税收入拨款 | C8: （三）国防支出 | E8: 商品和服务支出 | F8: 27 | G8: 三、机关资本性支出（一）
A9: 行政事业性收费收入 | C9: （四）公共安全支出 | E9: 对个人和家庭的补助 | G9: 四、机关资本性支出（二）
A10: 专项收入 | C10: （五）教育支出 | E10: 二、项目支出 | F10: 11983.57 | G10: 五、对事业单位经常性补助
A11: 国有资本经营收入 | C11: （六）科学技术支出 | E11: 按项目管理的工资福利支出 | G11: 六、对事业单位资本性补助
A12: 国有资源（资产）有偿使用收入 | C12: （七）文化旅游体育与传媒支出 | E12: 按项目管理的商品和服务支出 | F12: 13.5 | G12: 七、对企业补助
A13: 罚没收入 | C13: （八）社会保障和就业支出 | D13: 12296.41 | E13: 按项目管理的对个人和家庭的补助 | F13: 11770.07 | G13: 八、对企业资本性支出
A14: 捐赠收入 | C14: （九）社会保险基金支出 | E14: 债务利息及费用支出 | G14: 九、对个人和家庭的补助 | H14: 11770.07
A15: 政府住房基金收入 | C15: （十）卫生健康支出 | D15: 26.087418 | E15: 资本性支出（基本建设） | G15: 十、对社会保障基金补助
A16: 其他纳入一般公共预算管理的非税收入 | C16: （十一）节能环保支出 | E16: 资本性支出 | G16: 十一、债务利息及费用支出
A17: 一般债券 | C17: （十二）城乡社区支出 | E17: 对企业补助（基本建设） | G17: 十二、债务还本支出
A18: 外国政府和国际组织贷款 | C18: （十三）农林水支出 | E18: 对企业补助 | G18: 十三、转移性支出
A19: 外国政府和国际组织捐赠 | C19: （十四）交通运输支出 | E19: 对社会保障基金补助 | G19: 十四、其他支出 | H19: 200
A20: 二、政府性基金预算拨款收入 | B20: 200 | C20: （十五）资源勘探工业信息等支出 | E20: 其他支出 | F20: 200
A21: 三、国有资本经营预算拨款收入 | C21: （十六）商业服务业等支出 | E21: 三、事业单位经营服务支出
A22: 四、社会保障基金预算资金 | C22: （十七）金融支出
A23: 五、财政专户管理资金收入 | C23: （十八）援助其他地区支出
A24: 六、上级财政补助收入 | C24: （十九）自然资源海洋气象等支出
A25: 一般公共预算补助 | C25: （二十）住房保障支出 | D25: 36.829296
A26: 政府性基金补助 | C26: （二十一）粮油物资储备支出
A27: 国有资本经营预算补助 | C27: （二十二）国有资本经营预算支出
A28: 七、事业收入 | C28: （二十三）灾害防治及应急管理支出
A29: 八、事业单位经营收入 | C29: （二十四）预备费
A30: 九、上级单位补助收入 | C30: （二十五）其他支出 | D30: 200
A31: 十、附属单位上缴收入 | C31: （二十六）转移性支出
A32: 十一、其他收入 | C32: （二十七）债务还本支出
C33: （二十八）债务付息支出
C34: （二十九）债务发行费用支出
C35: （三十）抗疫特别国债安排的支出
A37: 本 年 收 入 合 计 | B37: 12559.33 | C37: 本 年 支 出 合 计 | D37: 12559.33 | E37: 本 年 支 出 合 计 | F37: 12559.33 | G37: 本 年 支 出 合 计 | H37: 12559.33
A38: 上年结转结余 | C38: 年终结转结余 | E38: 年终结转结余 | G38: 年终结转结余
A40: 收 入 总 计 | B40: 12559.33 | C40: 支 出 总 计 | D40: 12559.33 | E40: 支 出 总 计 | F40: 12559.33 | G40: 支 出 总 计 | H40: 12559.33

Sheet 2收入总表
A2: 收入总表
A3: 单位：437002-岳阳县民政局机关 | X3: 金额单位：万元
A4: 部门（单位）代码 | B4: 部门（单位）名称 | C4: 合计 | D4: 本年收入 | S4: 上年结转结余
D5: 小计 | E5: 一般公共预算 | F5: 政府性基金预算 | G5: 国有资本经营预算 | H5: 社会保险基金预算资金 | I5: 财政专户管理资金 | J5: 上级财政补助收入 | N5: 事业收入 | O5: 事业单位经营收入 | P5: 上级单位补助收入 | Q5: 附属单位上缴收入 | R5: 其他收入 | S5: 小计 | T5: 一般公共预算 | U5: 政府性基金预算 | V5: 国有资本经营预算 | W5: 社会保险基金预算资金 | X5: 财政专户管理资金 | Y5: 单位资金
J6: 一般公共预算补助 | K6: 政府性基金补助 | L6: 国有资本经营预算补助 | M6: 社会保险基金预算资金
B7: 合计 | C7: 12559.33 | D7: 12559.33 | E7: 12359.33 | F7: 200
A8: 437 | B8: 岳阳县民政局 | C8: 12559.33 | D8: 12559.33 | E8: 12359.33 | F8: 200
A9: 437002 | B9: 岳阳县民政局机关 | C9: 12559.33 | D9: 12559.33 | E9: 12359.33 | F9: 200

Sheet 3支出总表
A2: 支出总表
A3: 单位：437002-岳阳县民政局机关 | K3: 金额单位：万元
A4: 功能科目 | D4: 科目编码 | E4: 科目名称 | F4: 合计 | G4: 基本支出 | H4: 项目支出 | I4: 事业单位经营支出 | J4: 上缴上级支出 | K4: 对附属单位补助支出
A5: 类 | B5: 款 | C5: 项
D6: 合计 | F6: 12559.33 | G6: 575.75595 | H6: 11983.57
D7: 437 | E7: 岳阳县民政局 | F7: 12559.33 | G7: 575.75595 | H7: 11983.57
A8: 208 | D8: 208 | E8: 社会保障和就业支出 | F8: 12217.58 | G8: 512.93 | H8: 11704.65
A9: 208 | B9: 02 | D9: 20802 | E9: 民政管理事务 | F9: 474.16 | G9: 460.66 | H9: 13.5
A10: 208 | B10: 02 | C10: 01 | D10: 2080201 | E10: 行政运行 | F10: 460.6644 | G10: 460.6644
A11: 208 | B11: 02 | C11: 07 | D11: 2080207 | E11: 行政区划和地名管理 | F11: 8 | H11: 8
A12: 208 | B12: 02 | C12: 99 | D12: 2080299 | E12: 其他民政管理事务支出 | F12: 5.5 | H12: 5.5
A13: 208 | B13: 05 | D13: 20805 | E13: 行政事业单位养老支出 | F13: 49.105728 | G13: 49.105728
A14: 208 | B14: 05 | C14: 05 | D14: 2080505 | E14: 机关事业单位基本养老保险缴费支出 | F14: 49.105728 | G14: 49.105728
A15: 208 | B15: 10 | D15: 20810 | E15: 社会福利 | F15: 1275.82 | H15: 1275.82
A16: 208 | B16: 10 | C16: 01 | D16: 2081001 | E16: 儿童福利 | F16: 140 | H16: 140
A17: 208 | B17: 10 | C17: 02 | D17: 2081002 | E17: 老年福利 | F17: 391.64 | H17: 391.64
A18: 208 | B18: 10 | C18: 04 | D18: 2081004 | E18: 殡葬 | F18: 100 | H18: 100
A19: 208 | B19: 10 | C19: 99 | D19: 2081099 | E19: 其他社会福利支出 | F19: 644.18 | H19: 644.18
A20: 208 | B20: 19 | D20: 20819 | E20: 最低生活保障 | F20: 5998.13 | H20: 5998.13
A21: 208 | B21: 19 | C21: 01 | D21: 2081901 | E21: 城市最低生活保障金支出 | F21: 2919.51 | H21: 2919.51
A22: 208 | B22: 19 | C22: 02 | D22: 2081902 | E22: 农村最低生活保障金支出 | F22: 3078.62 | H22: 3078.62
A23: 208 | B23: 20 | D23: 20820 | E23: 临时救助 | F23: 613.22 | H23: 613.22
A24: 208 | B24: 20 | C24: 01 | D24: 2082001 | E24: 临时救助支出 | F24: 454.22 | H24: 454.22
A25: 208 | B25: 20 | C25: 02 | D25: 2082002 | E25: 流浪乞讨人员救助支出 | F25: 159 | H25: 159
A26: 208 | B26: 21 | D26: 20821 | E26: 特困人员救助供养 | F26: 3804.07 | H26: 3804.07
A27: 208 | B27: 21 | C27: 02 | D27: 2082102 | E27: 农村特困人员救助供养支出 | F27: 3804.07 | H27: 3804.07
A28: 208 | B28: 99 | D28: 20899 | E28: 其他社会保障和就业支出 | F28: 3.069108 | G28: 3.069108
A29: 208 | B29: 99 | C29: 99 | D29: 2089999 | E29: 其他社会保障和就业支出 | F29: 3.069108 | G29: 3.069108
A30: 210 | D30: 210 | E30: 卫生健康支出 | F30: 26.087418 | G30: 26.087418
A31: 210 | B31: 11 | D31: 21011 | E31: 行政事业单位医疗 | F31: 26.087418 | G31: 26.087418
A32: 210 | B32: 11 | C32: 01 | D32: 2101101 | E32: 行政单位医疗 | F32: 26.087418 | G32: 26.087418
A33: 213 | D33: 213 | E33: 农林水支出 | F33: 78.83 | H33: 78.83
A34: 213 | B34: 03 | D34: 21303 | E34: 水利 | F34: 78.83 | H34: 78.83
A35: 213 | B35: 03 | C35: 99 | D35: 2130399 | E35: 其他水利支出 | F35: 78.83 | H35: 78.83
A36: 221 | D36: 221 | E36: 住房保障支出 | F36: 36.829296 | G36: 36.829296
A37: 221 | B37: 02 | D37: 22102 | E37: 住房改革支出 | F37: 36.829296 | G37: 36.829296
A38: 221 | B38: 02 | C38: 01 | D38: 2210201 | E38: 住房公积金 | F38: 36.829296 | G38: 36.829296
A39: 229 | D39: 229 | E39: 其他支出 | F39: 200 | H39: 200
A40: 229 | B40: 60 | D40: 22960 | E40: 彩票公益金安排的支出 | F40: 200 | H40: 200
A41: 229 | B41: 60 | C41: 02 | D41: 2296002 | E41: 用于社会福利的彩票公益金支出 | F41: 200 | H41: 200

Sheet 4支出分类(政府预算)
A2: 支出预算分类汇总表（按政府预算经济分类）
A3: 单位：437002-岳阳县民政局机关 | S3: 金额单位：万元
A4: 功能科目 | D4: 单位代码 | E4: 单位名称（功能科目） | F4: 总 计 | G4: 机关工资福利支出 | H4: 机关商品和服务支出 | I4: 机关资本性支出(一) | J4: 机关资本性支出(二) | K4: 对事业单位经常性补助 | L4: 对事业单位资本性补助 | M4: 对企业补助 | N4: 对企业资本性支出 | O4: 对个人和家庭的补助 | P4: 对社会保障基金补助 | Q4: 债务利息及费用支出 | R4: 债务还本支出 | S4: 转移性支出 | T4: 其他支出
A5: 类 | B5: 款 | C5: 项
E6: 合计 | F6: 12559.33 | G6: 548.75595 | H6: 40.5 | O6: 11770.07 | T6: 200
D7: 437 | E7: 岳阳县民政局 | F7: 12559.33 | G7: 548.75595 | H7: 40.5 | O7: 11770.07 | T7: 200
D8: 437002 | E8: 岳阳县民政局机关 | F8: 12559.33 | G8: 548.75595 | H8: 40.5 | O8: 11770.07 | T8: 200
A9: 208 | B9: 02 | C9: 01 | D9: 437002 | E9: 行政运行 | F9: 460.6644 | G9: 433.6644 | H9: 27
A10: 208 | B10: 05 | C10: 05 | D10: 437002 | E10: 机关事业单位基本养老保险缴费支出 | F10: 49.105728 | G10: 49.105728
A11: 208 | B11: 99 | C11: 99 | D11: 437002 | E11: 其他社会保障和就业支出 | F11: 3.069108 | G11: 3.069108
A12: 210 | B12: 11 | C12: 01 | D12: 437002 | E12: 行政单位医疗 | F12: 26.087418 | G12: 26.087418
A13: 221 | B13: 02 | C13: 01 | D13: 437002 | E13: 住房公积金 | F13: 36.829296 | G13: 36.829296
A14: 208 | B14: 02 | C14: 07 | D14: 437002 | E14: 行政区划和地名管理 | F14: 8 | H14: 8
A15: 208 | B15: 02 | C15: 99 | D15: 437002 | E15: 其他民政管理事务支出 | F15: 5.5 | H15: 5.5
A16: 208 | B16: 10 | C16: 01 | D16: 437002 | E16: 儿童福利 | F16: 140 | O16: 140
A17: 208 | B17: 10 | C17: 02 | D17: 437002 | E17: 老年福利 | F17: 391.64 | O17: 391.64
A18: 208 | B18: 10 | C18: 04 | D18: 437002 | E18: 殡葬 | F18: 100 | O18: 100
A19: 208 | B19: 10 | C19: 99 | D19: 437002 | E19: 其他社会福利支出 | F19: 644.18 | O19: 644.18
A20: 208 | B20: 19 | C20: 01 | D20: 437002 | E20: 城市最低生活保障金支出 | F20: 2919.51 | O20: 2919.51
A21: 208 | B21: 19 | C21: 02 | D21: 437002 | E21: 农村最低生活保障金支出 | F21: 3078.62 | O21: 3078.62
A22: 208 | B22: 20 | C22: 01 | D22: 437002 | E22: 临时救助支出 | F22: 454.22 | O22: 454.22
A23: 208 | B23: 20 | C23: 02 | D23: 437002 | E23: 流浪乞讨人员救助支出 | F23: 159 | O23: 159
A24: 208 | B24: 21 | C24: 02 | D24: 437002 | E24: 农村特困人员救助供养支出 | F24: 3804.07 | O24: 3804.07
A25: 213 | B25: 03 | C25: 99 | D25: 437002 | E25: 农林水支出 | F25: 78.83 | O25: 78.83
A26: 229 | B26: 60 | C26: 02 | D26: 437002 | E26: 用于社会福利的彩票公益金支出 | F26: 200 | T26: 200

Sheet 5支出分类（部门预算）
A2: 支出预算分类汇总表（按部门预算经济分类）
A3: 单位：437002-岳阳县民政局机关 | T3: 金额单位：万元
A4: 功能科目 | D4: 单位代码 | E4: 单位名称（功能科目） | F4: 总 计 | G4: 基本支出 | K4: 项目支出
A5: 类 | B5: 款 | C5: 项 | G5: 合计 | H5: 工资福利支出 | I5: 一般商品和服务支出 | J5: 对个人和家庭的补助 | K5: 合计 | L5: 按项目管理的工资福利支出 | M5: 按项目管理的商品和服务支出 | N5: 按项目管理的对个人和家庭的补助 | O5: 债务利息及费用支出 | P5: 资本性支出（基本建设） | Q5: 资本性支出 | R5: 对企业补助（基本建设） | S5: 对企业补助 | T5: 对社会保障基金补助 | U5: 其他支出
E6: 合计 | F6: 12559.33 | G6: 575.75595 | H6: 548.75595 | I6: 27 | J6: 0 | K6: 11983.57 | M6: 13.5 | N6: 11770.07 | U6: 200
D7: 437 | E7: 岳阳县民政局 | F7: 12559.33 | G7: 575.75595 | H7: 548.75595 | I7: 27 | J7: 0 | K7: 11983.57 | L7: 0 | M7: 13.5 | N7: 11770.07 | U7: 200
D8: 437002 | E8: 岳阳县民政局机关 | F8: 12559.33 | G8: 575.75595 | H8: 548.75595 | I8: 27 | J8: 0 | K8: 11983.57 | L8: 0 | M8: 13.5 | N8: 11770.07 | U8: 200
A9: 208 | B9: 02 | C9: 01 | D9: 437002 | E9: 行政运行 | F9: 460.6644 | G9: 460.6644 | H9: 433.6644 | I9: 27
A10: 208 | B10: 05 | C10: 05 | D10: 437002 | E10: 机关事业单位基本养老保险缴费支出 | F10: 49.105728 | G10: 49.105728 | H10: 49.105728
A11: 208 | B11: 99 | C11: 99 | D11: 437002 | E11: 其他社会保障和就业支出 | F11: 3.069108 | G11: 3.069108 | H11: 3.069108
A12: 210 | B12: 11 | C12: 01 | D12: 437002 | E12: 行政单位医疗 | F12: 26.087418 | G12: 26.087418 | H12: 26.087418
A13: 221 | B13: 02 | C13: 01 | D13: 437002 | E13: 住房公积金 | F13: 36.829296 | G13: 36.829296 | H13: 36.829296
A14: 208 | B14: 02 | C14: 07 | D14: 437002 | E14: 行政区划和地名管理 | F14: 8 | K14: 8 | M14: 8
A15: 208 | B15: 02 | C15: 99 | D15: 437002 | E15: 其他民政管理事务支出 | F15: 5.5 | K15: 5.5 | M15: 5.5
A16: 208 | B16: 10 | C16: 01 | D16: 437002 | E16: 儿童福利 | F16: 140 | K16: 140 | N16: 140
A17: 208 | B17: 10 | C17: 02 | D17: 437002 | E17: 老年福利 | F17: 391.64 | K17: 391.64 | N17: 391.64
A18: 208 | B18: 10 | C18: 04 | D18: 437002 | E18: 殡葬 | F18: 100 | K18: 100 | N18: 100
A19: 208 | B19: 10 | C19: 99 | D19: 437002 | E19: 其他社会福利支出 | F19: 644.18 | K19: 644.18 | N19: 644.18
A20: 208 | B20: 19 | C20: 01 | D20: 437002 | E20: 城市最低生活保障金支出 | F20: 2919.51 | K20: 2919.51 | N20: 2919.51
A21: 208 | B21: 19 | C21: 02 | D21: 437002 | E21: 农村最低生活保障金支出 | F21: 3078.62 | K21: 3078.62 | N21: 3078.62
A22: 208 | B22: 20 | C22: 01 | D22: 437002 | E22: 临时救助支出 | F22: 454.22 | K22: 454.22 | N22: 454.22
A23: 208 | B23: 20 | C23: 02 | D23: 437002 | E23: 流浪乞讨人员救助支出 | F23: 159 | K23: 159 | N23: 159
A24: 208 | B24: 21 | C24: 02 | D24: 437002 | E24: 农村特困人员救助供养支出 | F24: 3804.07 | K24: 3804.07 | N24: 3804.07
A25: 213 | B25: 03 | C25: 99 | D25: 437002 | E25: 农林水支出 | F25: 78.83 | K25: 78.83 | N25: 78.83
A26: 229 | B26: 60 | C26: 02 | D26: 437002 | E26: 用于社会福利的彩票公益金支出 | F26: 200 | U26: 200

Sheet 6财政拨款收支总表
A2: 财政拨款收支总表
A3: 单位：437002-岳阳县民政局机关 | D3: 金额单位：万元
A4: 收入 | C4: 支出
A5: 项目 | B5: 预算数 | C5: 项目 | D5: 预算数
A6: 一、本年收入 | B6: 12559.33 | C6: 一、本年支出 | D6: 12559.33
A7: （一）一般公共预算拨款 | B7: 12359.33 | C7: （一）一般公共服务支出
A8: 经费拨款 | B8: 12359.33 | C8: （二）外交支出
A9: 纳入一般公共预算管理的非税收入拨款 | C9: （三）国防支出
A10: （二）政府性基金预算拨款 | B10: 200 | C10: （四）公共安全支出
A11: （三）国有资本经营预算拨款 | C11: （五）教育支出
A12: （四）社会保险基金预算资金 | C12: （六）科学技术支出
A13: 二、上年结转 | C13: （七）文化旅游体育与传媒支出
A14: （一）一般公共预算拨款 | C14: （八）社会保障和就业支出 | D14: 12296.41
A15: （二）政府性基金预算拨款 | C15: （九）社会保险基金支出
A16: （三）国有资本经营预算拨款 | C16: （十）卫生健康支出 | D16: 26.087418
A17: （四）社会保险基金预算资金 | C17: （十一）节能环保支出
C18: （十二）城乡社区支出
C19: （十三）农林水支出
C20: （十四）交通运输支出
C21: （十五）资源勘探工业信息等支出
C22: （十六）商业服务业等支出
C23: （十七）金融支出
C24: （十八）援助其他地区支出
C25: （十九）自然资源海洋气象等支出
C26: （二十）住房保障支出 | D26: 36.829296
C27: （二十一）粮油物资储备支出
C28: （二十二）国有资本经营预算支出
C29: （二十三）灾害防治及应急管理支出
C30: （二十四）预备费
C31: （二十五）其他支出 | D31: 200
C32: （二十六）转移性支出
C33: （二十七）债务还本支出
C34: （二十八）债务付息支出
C35: （二十九）债务发行费用支出
C36: （三十）抗疫特别国债安排的支出
C38: 二、年终结转结余
A40: 收 入 总 计 | B40: 12559.33 | C40: 支 出 总 计 | D40: 12559.33

Sheet 7一般公共预算支出表
A2: 一般公共预算支出表
A3: 单位：437002-岳阳县民政局机关 | J3: 金额单位：万元
A4: 功能科目 | D4: 科目编码 | E4: 科目名称 | F4: 合计 | G4: 基本支出 | K4: 项目支出
G5: 小计 | H5: 人员经费 | J5: 公用经费
A6: 类 | B6: 款 | C6: 项 | H6: 工资福利支出 | I6: 对个人和家庭的补助
E7: 合计 | F7: 12359.33 | G7: 575.75595 | H7: 548.75595 | J7: 27 | K7: 11783.57
D8: 437 | E8: 岳阳县民政局 | F8: 12359.33 | G8: 575.75595 | H8: 548.75595 | J8: 27 | K8: 11783.57
A9: 208 | D9: 208 | E9: 社会保障和就业支出 | F9: =F10+F14+F16+F21+F24+F27+F29 -> 12217.579 | G9: =G10+G14+G16+G21+G24+G27+G29 -> 512.83924 | H9: =H10+H14+H16+H21+H24+H27+H29 -> 485.83924 | J9: =J10+J14+J16+J21+J24+J27+J29 -> 27 | K9: =K10+K14+K16+K21+K24+K27+K29 -> 11704.74
A10: 208 | B10: 02 | D10: 20802 | E10: 民政管理事务 | F10: =F11+F12+F13 -> 474.1644 | G10: =G11+G12+G13 -> 460.6644 | H10: =H11+H12+H13 -> 433.6644 | J10: =J11+J12+J13 -> 27 | K10: =K11+K12+K13 -> 13.5
A11: 208 | B11: 02 | C11: 01 | D11: 2080201 | E11: 行政运行 | F11: 460.6644 | G11: 460.6644 | H11: 433.6644 | J11: 27
A12: 208 | B12: 02 | C12: 07 | D12: 2080207 | E12: 行政区划和地名管理 | F12: 8 | K12: 8
A13: 208 | B13: 02 | C13: 99 | D13: 2080299 | E13: 其他民政管理事务支出 | F13: 5.5 | K13: 5.5
A14: 208 | B14: 05 | D14: 20805 | E14: 行政事业单位养老支出 | F14: 49.105728 | G14: 49.105728 | H14: 49.105728
A15: 208 | B15: 05 | C15: 05 | D15: 2080505 | E15: 机关事业单位基本养老保险缴费支出 | F15: 49.105728 | G15: 49.105728 | H15: 49.105728
A16: 208 | B16: 10 | D16: 20810 | E16: 社会福利 | F16: =F17+F18+F19+F20 -> 1275.82 | K16: =K17+K18+K19+K20 -> 1275.82
A17: 208 | B17: 10 | C17: 01 | D17: 2081001 | E17: 儿童福利 | F17: 140 | K17: 140
A18: 208 | B18: 10 | C18: 02 | D18: 2081002 | E18: 老年福利 | F18: 391.64 | K18: 391.64
A19: 208 | B19: 10 | C19: 04 | D19: 2081004 | E19: 殡葬 | F19: 100 | K19: 100
A20: 208 | B20: 10 | C20: 99 | D20: 2081099 | E20: 其他社会福利支出 | F20: 644.18 | K20: 644.18
A21: 208 | B21: 19 | D21: 20819 | E21: 最低生活保障 | F21: =F22+F23 -> 5998.13 | K21: =K22+K23 -> 5998.13
A22: 208 | B22: 19 | C22: 01 | D22: 2081901 | E22: 城市最低生活保障金支出 | F22: 2919.51 | K22: 2919.51
A23: 208 | B23: 19 | C23: 02 | D23: 2081902 | E23: 农村最低生活保障金支出 | F23: 3078.62 | K23: 3078.62
A24: 208 | B24: 20 | D24: 20820 | E24: 临时救助 | F24: =F25+F26 -> 613.22 | K24: =K25+K26 -> 613.22
A25: 208 | B25: 20 | C25: 01 | D25: 2082001 | E25: 临时救助支出 | F25: 454.22 | K25: 454.22
A26: 208 | B26: 20 | C26: 02 | D26: 2082002 | E26: 流浪乞讨人员救助支出 | F26: 159 | K26: 159
A27: 208 | B27: 21 | D27: 20821 | E27: 特困人员救助供养 | F27: 3804.07 | K27: 3804.07
A28: 208 | B28: 21 | C28: 02 | D28: 2082102 | E28: 农村特困人员救助供养支出 | F28: 3804.07 | K28: 3804.07
A29: 208 | B29: 99 | D29: 20899 | E29: 其他社会保障和就业支出 | F29: 3.069108 | G29: 3.069108 | H29: 3.069108
A30: 208 | B30: 99 | C30: 99 | D30: 2089999 | E30: 其他社会保障和就业支出 | F30: 3.069108 | G30: 3.069108 | H30: 3.069108
A31: 210 | D31: 210 | E31: 卫生健康支出 | F31: 26.087418 | G31: 26.087418 | H31: 26.087418
A32: 210 | B32: 11 | D32: 21011 | E32: 行政事业单位医疗 | F32: 26.087418 | G32: 26.087418 | H32: 26.087418
A33: 210 | B33: 11 | C33: 01 | D33: 2101101 | E33: 行政单位医疗 | F33: 26.087418 | G33: 26.087418 | H33: 26.087418
A34: 213 | D34: 213 | E34: 农林水支出 | F34: 78.83 | K34: 78.83
A35: 213 | B35: 03 | D35: 21303 | E35: 水利 | F35: 78.83 | K35: 78.83
A36: 213 | B36: 03 | C36: 99 | D36: 2130399 | E36: 其他水利支出 | F36: 78.83 | K36: 78.83
A37: 221 | D37: 221 | E37: 住房保障支出 | F37: 36.829296 | G37: 36.829296 | H37: 36.829296
A38: 221 | B38: 02 | D38: 22102 | E38: 住房改革支出 | F38: 36.829296 | G38: 36.829296 | H38: 36.829296
A39: 221 | B39: 02 | C39: 01 | D39: 2210201 | E39: 住房公积金 | F39: 36.829296 | G39: 36.829296 | H39: 36.829296

Sheet 8一般公共预算基本支出表
A1: 一般公共预算基本支出表
A2: 单位：437002-岳阳县民政局机关 | E2: 金额单位：万元
A3: 部门预算支出经济分类科目 | C3: 本年一般公共预算基本支出
A4: 科目编码 | B4: 科目名称 | C4: 合计 | D4: 人员经费 | E4: 公用经费
A5: 301 | B5: 工资福利支出 | C5: =D5+E5 -> 548.75595 | D5: =SUM(D6:D16) -> 548.75595 | E5: =SUM(E6:E16) -> 0
A6: 30101 | B6: 基本工资 | C6: =D6+E6 -> 197.3952 | D6: ='10工资福利'!H6 -> 197.3952
A7: 30102 | B7: 津贴补贴 | C7: =D7+E7 -> 184.1124 | D7: ='10工资福利'!I6 -> 184.1124
A8: 30103 | B8: 奖金 | C8: =D8+E8 -> 0
A9: 30106 | B9: 伙食补助费 | C9: =D9+E9 -> 0
A10: 30107 | B10: 绩效工资 | C10: =D10+E10 -> 52.1568 | D10: ='10工资福利'!K6 -> 52.1568
A11: 30108 | B11: 机关事业单位基本养老保险缴费 | C11: =D11+E11 -> 49.105728 | D11: ='10工资福利'!M6 -> 49.105728
A12: 30109 | B12: 职业年金缴费 | C12: =D12+E12 -> 0 | D12: ='10工资福利'!N6 -> 0
A13: 30110 | B13: 职工基本医疗保险缴费 | C13: =D13+E13 -> 23.01831 | D13: ='10工资福利'!O6 -> 23.01831
A14: 30111 | B14: 公务员医疗补助缴费 | C14: =D14+E14 -> 3.069108 | D14: ='10工资福利'!P6 -> 3.069108
A15: 30112 | B15: 其他社会保障缴费 | C15: =D15+E15 -> 3.069108 | D15: ='10工资福利'!Q6 -> 3.069108
A16: 30113 | B16: 住房公积金 | C16: =D16+E16 -> 36.829296 | D16: ='10工资福利'!R6 -> 36.829296
A17: 302 | B17: 商品和服务支出 | C17: =D17+E17 -> 27 | D17: =SUM(D18:D34) -> 0 | E17: =SUM(E18:E34) -> 27
A18: 30201 | B18: 办公费 | C18: =D18+E18 -> 4.05 | E18: ='14商品服务'!G6 -> 4.05
A19: 30202 | B19: 印刷费 | C19: =D19+E19 -> 0.9 | E19: ='14商品服务'!H6 -> 0.9
A20: 30203 | B20: 咨询费 | C20: =D20+E20 -> 0
A21: 30204 | B21: 手续费 | C21: =D21+E21 -> 0
A22: 30205 | B22: 水费 | C22: =D22+E22 -> 1 | E22: ='14商品服务'!K6 -> 1
A23: 30206 | B23: 电费 | C23: =D23+E23 -> 5 | E23: ='14商品服务'!L6 -> 5
A24: 30207 | B24: 邮电费 | C24: =D24+E24 -> 4 | E24: ='14商品服务'!M6 -> 4
A25: 30208 | B25: 取暖费 | C25: =D25+E25 -> 0
A26: 30209 | B26: 物业管理费 | C26: =D26+E26 -> 2.25 | E26: ='14商品服务'!O6 -> 2.25
A27: 30211 | B27: 差旅费 | C27: =D27+E27 -> 5.4 | E27: ='14商品服务'!P6 -> 5.4
A28: 30212 | B28: 因公出国（境）费用 | C28: =D28+E28 -> 0
A29: 30213 | B29: 维修（护）费 | C29: =D29+E29 -> 0.9 | E29: ='14商品服务'!R6 -> 0.9
A30: 30214 | B30: 租赁费 | C30: =D30+E30 -> 0
A31: 30215 | B31: 会议费 | C31: =D31+E31 -> 0
A32: 30216 | B32: 培训费 | C32: =D32+E32 -> 1 | E32: ='14商品服务'!U6 -> 1
A33: 30217 | B33: 公务接待费 | C33: =D33+E33 -> 2.5 | E33: ='14商品服务'!V6 -> 2.5
A34: 30299 | B34: 其他商品和服务支出 | C34: =D34+E34 -> 0
A35: 合计 | C35: =C17+C5 -> 575.75595 | D35: =D17+D5 -> 548.75595 | E35: =E17+E5 -> 27

Sheet 9工资福利(政府预算)
A2: 一般公共预算基本支出表--人员经费(工资福利支出)(按政府预算经济分类)
A3: 单位：437002-岳阳县民政局机关 | M3: 金额单位：万元
A4: 功能科目 | D4: 单位代码 | E4: 单位名称（功能科目） | F4: 总 计 | G4: 机关工资福利支出 | L4: 对事业单位经常性补助
A5: 类 | B5: 款 | C5: 项 | G5: 合计 | H5: 工资奖金津补贴 | I5: 社会保障缴费 | J5: 住房公积金 | K5: 其他工资福利支出 | L5: 合计 | M5: 工资福利支出 | N5: 其他对事业单位补助
E6: 合计 | F6: 548.75595 | G6: 548.75595 | H6: 433.6644 | I6: 78.262254 | J6: 36.829296
D7: 437 | E7: 岳阳县民政局 | F7: 548.75595 | G7: 548.75595 | H7: 433.6644 | I7: 78.262254 | J7: 36.829296
D8: 437002 | E8: 岳阳县民政局机关 | F8: 548.75595 | G8: 548.75595 | H8: 433.6644 | I8: 78.262254 | J8: 36.829296
A9: 208 | B9: 02 | C9: 01 | D9: 437002 | E9: 行政运行 | F9: 433.6644 | G9: 433.6644 | H9: 433.6644
A10: 208 | B10: 05 | C10: 05 | D10: 437002 | E10: 机关事业单位基本养老保险缴费支出 | F10: 49.105728 | G10: 49.105728 | I10: 49.105728
A11: 208 | B11: 99 | C11: 99 | D11: 437002 | E11: 其他社会保障和就业支出 | F11: 3.069108 | G11: 3.069108 | I11: 3.069108
A12: 210 | B12: 11 | C12: 01 | D12: 437002 | E12: 行政单位医疗 | F12: 26.087418 | G12: 26.087418 | I12: 26.087418
A13: 221 | B13: 02 | C13: 01 | D13: 437002 | E13: 住房公积金 | F13: 36.829296 | G13: 36.829296 | J13: 36.829296

Sheet 10工资福利
A2: 一般公共预算基本支出表--人员经费(工资福利支出)(按部门预算经济分类)
A3: 单位：437002-岳阳县民政局机关 | U3: 金额单位：万元
A4: 功能科目 | D4: 单位代码 | E4: 单位名称（功能科目） | F4: 总 计 | G4: 工资津补贴 | L4: 社会保障缴费 | R4: 住房公积金 | S4: 其他工资福利支出
A5: 类 | B5: 款 | C5: 项 | G5: 合计 | H5: 基本工资 | I5: 津贴补贴 | J5: 奖金 | K5: 绩效工资 | L5: 合计 | M5: 机关事业单位基本养老保险缴费 | N5: 职业年金缴费 | O5: 职工基本医疗保险缴费 | P5: 公务员医疗补助缴费 | Q5: 其他社会保障缴费 | S5: 合计 | T5: 伙食补助费 | U5: 医疗费 | V5: 其他工资福利支出
E6: 合计 | F6: 548.75595 | G6: 433.6644 | H6: 197.3952 | I6: 184.1124 | K6: 52.1568 | L6: 78.262254 | M6: 49.105728 | O6: 23.01831 | P6: 3.069108 | Q6: 3.069108 | R6: 36.829296
D7: 437 | E7: 岳阳县民政局 | F7: 548.75595 | G7: 433.6644 | H7: 197.3952 | I7: 184.1124 | K7: 52.1568 | L7: 78.262254 | M7: 49.105728 | O7: 23.01831 | P7: 3.069108 | Q7: 3.069108 | R7: 36.829296
D8: 437002 | E8: 岳阳县民政局机关 | F8: 548.75595 | G8: 433.6644 | H8: 197.3952 | I8: 184.1124 | K8: 52.1568 | L8: 78.262254 | M8: 49.105728 | O8: 23.01831 | P8: 3.069108 | Q8: 3.069108 | R8: 36.829296
A9: 208 | B9: 02 | C9: 01 | D9: 437002 | E9: 行政运行 | F9: 433.6644 | G9: 433.6644 | H9: 197.3952 | I9: 184.1124 | K9: 52.1568
A10: 208 | B10: 05 | C10: 05 | D10: 437002 | E10: 机关事业单位基本养老保险缴费支出 | F10: 49.105728 | L10: 49.105728 | M10: 49.105728
A11: 208 | B11: 99 | C11: 99 | D11: 437002 | E11: 其他社会保障和就业支出 | F11: 3.069108 | L11: 3.069108 | Q11: 3.069108
A12: 210 | B12: 11 | C12: 01 | D12: 437002 | E12: 行政单位医疗 | F12: 26.087418 | L12: 26.087418 | O12: 23.01831 | P12: 3.069108
A13: 221 | B13: 02 | C13: 01 | D13: 437002 | E13: 住房公积金 | F13: 36.829296 | R13: 36.829296

Sheet 11个人家庭(政府预算)
A2: 一般公共预算基本支出表--人员经费(对个人和家庭的补助)(按政府预算经济分类)
A3: 单位：437002-岳阳县民政局机关 | J3: 金额单位：万元
A4: 功能科目 | D4: 单位代码 | E4: 单位名称（功能科目） | F4: 总计 | G4: 社会福利和救济 | H4: 助学金 | I4: 个人农业生产补贴 | J4: 离退休费 | K4: 其他对个人和家庭的补助
A5: 类 | B5: 款 | C5: 项
E6: 合计 | F6: 0
A10: 说明：本单位2022年无对个人和家庭的补助支出预算安排，故此表无数据。

Sheet 12个人家庭
A2: 一般公共预算基本支出表--人员经费(对个人和家庭的补助)（按部门预算经济分类）
A3: 单位：437002-岳阳县民政局机关 | Q3: 金额单位：万元
A4: 功能科目 | D4: 单位代码 | E4: 单位名称（功能科目） | F4: 总计 | G4: 离休费 | H4: 退休费 | I4: 退职（役）费 | J4: 抚恤金 | K4: 生活补助 | L4: 救济费 | M4: 医疗费补助 | N4: 助学金 | O4: 奖励金 | P4: 代缴社会保险费 | Q4: 个人农业生产补贴 | R4: 其他对个人和家庭的补助
A5: 类 | B5: 款 | C5: 项
E6: 合计 | F6: 0
A10: 说明：本单位2022年无对个人和家庭的补助支出预算安排，故此表无数据。

Sheet 13商品服务(政府预算)
A2: 一般公共预算基本支出表--公用经费(商品和服务支出)（按政府预算经济分类）
A3: 单位：437002-岳阳县民政局机关 | S3: 金额单位：万元
A4: 功能科目 | D4: 单位代码 | E4: 单位名称（功能科目） | F4: 总计 | G4: 机关商品和服务支出 | R4: 对事业单位经常性补助
A5: 类 | B5: 款 | C5: 项 | G5: 合计 | H5: 办公经费 | I5: 会议费 | J5: 培训费 | K5: 专用材料购置费 | L5: 委托业务费 | M5: 公务接待费 | N5: 因公出国（境）费用 | O5: 公务用车运行维护费 | P5: 维修(护)费 | Q5: 其他商品和服务支出 | R5: 合计 | S5: 商品和服务支出 | T5: 其他对事业单位补助
E6: 合计 | F6: 27 | G6: 27 | H6: 22.6 | J6: 1 | M6: 2.5 | P6: 0.9
D7: 437 | E7: 岳阳县民政局 | F7: 27 | G7: 27 | H7: 22.6 | J7: 1 | M7: 2.5 | P7: 0.9
D8: 437002 | E8: 岳阳县民政局机关 | F8: 27 | G8: 27 | H8: 22.6 | J8: 1 | M8: 2.5 | P8: 0.9
A9: 208 | B9: 02 | C9: 01 | D9: 437002 | E9: 行政运行 | F9: 27 | G9: 27 | H9: 22.6 | J9: 1 | M9: 2.5 | P9: 0.9

Sheet 14商品服务
A2: 一般公共预算基本支出表--公用经费(商品和服务支出)(按部门预算经济分类)
A3: 单位：437002-岳阳县民政局机关 | AF3: 金额单位：万元
A4: 功能科目 | D4: 单位代码 | E4: 单位名称（功能科目） | F4: 总 计 | G4: 办公费 | H4: 印刷费 | I4: 咨询费 | J4: 手续费 | K4: 水费 | L4: 电费 | M4: 邮电费 | N4: 取暖费 | O4: 物业管理费 | P4: 差旅费 | Q4: 因公出国（境）费用 | R4: 维修(护)费 | S4: 租赁费 | T4: 会议费 | U4: 培训费 | V4: 公务接待费 | W4: 专用材料费 | X4: 被装购置费 | Y4: 专用燃料费 | Z4: 劳务费 | AA4: 委托业务费 | AB4: 工会经费 | AC4: 福利费 | AD4: 公务用车运行维护费 | AE4: 其他交通费用 | AF4: 税金及附加费用 | AG4: 其他商品和服务支出
A5: 类 | B5: 款 | C5: 项
E6: 合计 | F6: 27 | G6: 4.05 | H6: 0.9 | K6: 1 | L6: 5 | M6: 4 | O6: 2.25 | P6: 5.4 | R6: 0.9 | U6: 1 | V6: 2.5
D7: 437 | E7: 岳阳县民政局 | F7: 27 | G7: 4.05 | H7: 0.9 | K7: 1 | L7: 5 | M7: 4 | O7: 2.25 | P7: 5.4 | R7: 0.9 | U7: 1 | V7: 2.5
D8: 437002 | E8: 岳阳县民政局机关 | F8: 27 | G8: 4.05 | H8: 0.9 | K8: 1 | L8: 5 | M8: 4 | O8: 2.25 | P8: 5.4 | R8: 0.9 | U8: 1 | V8: 2.5
A9: 208 | B9: 02 | C9: 01 | D9: 437002 | E9: 行政运行 | F9: 27 | G9: 4.05 | H9: 0.9 | K9: 1 | L9: 5 | M9: 4 | O9: 2.25 | P9: 5.4 | R9: 0.9 | U9: 1 | V9: 2.5

Sheet 15三公
A2: 一般公共预算“三公”经费支出表
A3: 单位：437002-岳阳县民政局机关 | G3: 金额单位：万元
A4: 单位编码 | B4: 单位名称 | C4: “三公”经费合计 | D4: 因公出国（境）费 | E4: 公务用车购置及运行费 | H4: 公务接待费
E5: 小计 | F5: 公务用车购置费 | G5: 公务用车运行费
B6: 合计 | C6: 12.5 | D6: 0 | E6: 7 | F6: 0 | G6: 7 | H6: 5.5
A7: 437 | B7: 岳阳县民政局 | C7: 12.5 | D7: 0 | E7: 7 | F7: 0 | G7: 7 | H7: 5.5
A8: 437002 | B8: 岳阳县民政局机关 | C8: 12.5 | D8: 0 | E8: 7 | F8: 0 | G8: 7 | H8: 5.5

Sheet 16政府性基金
A2: 政府性基金预算支出表
A3: 单位：437002-岳阳县民政局机关 | G3: 金额单位：万元
A4: 科目编码 | B4: 科目名称 | C4: 合计 | D4: 本年政府性基金预算支出 | H4: 项目支出
D5: 小计 | E5: 人员经费 | G5: 公用经费
E6: 工资福利支出 | F6: 对个人和家庭的补助
B7: 合计 | C7: 200 | H7: 200
A8: 2296002 | B8: 用于社会福利的彩票公益金支出 | C8: 200 | H8: 200

Sheet 17政府性基金(政府预算)
A2: 政府性基金预算支出分类汇总表（按政府预算经济分类）
A3: 单位：437002-岳阳县民政局机关 | S3: 金额单位：万元
A4: 功能科目 | D4: 单位代码 | E4: 单位名称（功能科目） | F4: 总 计 | G4: 机关工资福利支出 | H4: 机关商品和服务支出 | I4: 机关资本性支出(一) | J4: 机关资本性支出(二) | K4: 对事业单位经常性补助 | L4: 对事业单位资本性补助 | M4: 对企业补助 | N4: 对企业资本性支出 | O4: 对个人和家庭的补助 | P4: 对社会保障基金补助 | Q4: 债务利息及费用支出 | R4: 债务还本支出 | S4: 转移性支出 | T4: 其他支出
A5: 类 | B5: 款 | C5: 项
D6: 437002 | E6: 合计 | F6: 200 | T6: 200
A7: 229 | E7: 其他支出 | F7: 200 | T7: 200
A8: 229 | B8: 60 | E8: 彩票公益金安排的支出 | F8: 200 | T8: 200
A9: 229 | B9: 60 | C9: 02 | E9: 用于社会福利的彩票公益金支出 | F9: 200 | T9: 200

Sheet 18政府性基金（部门预算）
A2: 政府性基金预算支出分类汇总表（按部门预算经济分类）
A3: 单位：437002-岳阳县民政局机关 | P3: 金额单位：万元
A4: 功能科目 | D4: 单位代码 | E4: 单位名称（功能科目） | F4: 总 计 | G4: 基本支出 | K4: 项目支出
A5: 类 | B5: 款 | C5: 项 | G5: 合计 | H5: 工资福利支出 | I5: 一般商品和服务支出 | J5: 对个人和家庭的补助 | K5: 合计 | L5: 按项目管理的商品和服务支出 | M5: 按项目管理的对个人和家庭的补助 | N5: 债务利息及费用支出 | O5: 资本性支出（基本建设） | P5: 资本性支出 | Q5: 对企业补助（基本建设） | R5: 对企业补助 | S5: 对社会保障基金补助 | T5: 其他支出
D6: 437002 | E6: 合计 | F6: 200 | K6: 200 | T6: 200
A7: 229 | E7: 其他支出 | F7: 200 | K7: 200 | T7: 200
A8: 229 | B8: 60 | E8: 彩票公益金安排的支出 | F8: 200 | K8: 200 | T8: 200
A9: 229 | B9: 60 | C9: 02 | E9: 用于社会福利的彩票公益金支出 | F9: 200 | K9: 200 | T9: 200

Sheet 19国有资本经营预算
A2: 国有资本经营预算支出表
A3: 单位：437002-岳阳县民政局机关 | H3: 金额单位：万元
A4: 科目编码 | B4: 科目名称 | C4: 合计 | D4: 本年国有资本经营预算支出 | H4: 项目支出
D5: 小计 | E5: 人员经费 | G5: 公用经费
E6: 工资福利支出 | F6: 对个人和家庭的补助
B7: 合计 | C7: 0
A13: 说明：本单位2022年无国有资本经营预算支出预算安排，故此表无数据。

Sheet 20财政专户管理资金
A2: 财政专户管理资金预算支出表
A3: 单位：437002-岳阳县民政局机关 | H3: 金额单位：万元
A4: 科目编码 | B4: 科目名称 | C4: 合计 | D4: 本年财政专户管理资金预算支出 | H4: 项目支出
D5: 小计 | E5: 人员经费 | G5: 公用经费
E6: 工资福利支出 | F6: 对个人和家庭的补助
B7: 合计 | C7: 0
A13: 说明：本单位2022年无财政专户管理资金支出预算安排，故此表无数据。

Sheet 21专项清单
A2: 专项资金预算汇总表
A3: 单位：437002-岳阳县民政局机关 | N3: 金额单位：万元
A4: 单位代码 | C4: 单位名称（专项名称） | D4: 预算额度 | N4: 预算编制方式
D5: 总计 | E5: 一般公共预算 | K5: 政府性基金 | L5: 国有资本经营预算 | M5: 社会保险基金预算资金 | N5: 编入部门预算金额 | O5: 财政代编金额
E6: 一般公共预算小计 | F6: 经费拨款 | G6: 纳入一般公共预算管理的非税收入 | H6: 一般债券 | I6: 外国政府和国际组织贷款 | J6: 外国政府和国际组织赠款
C7: 合计 | D7: 11983.57 | E7: 11783.57 | F7: 11783.57 | K7: 200 | N7: 11983.57
A8: 437 | C8: 岳阳县民政局 | D8: 11983.57 | E8: 11783.57 | F8: 11783.57 | K8: 200 | N8: 11983.57
A9: 437002 | B9: 运转其他类其他民政管理事务 | C9: 其他民政管理事务 | D9: 4.5 | E9: 4.5 | F9: 4.5 | N9: 4.5
A10: 437002 | B10: 特定目标类街道路牌及界牌 | C10: 街道路牌及界牌 | D10: 5 | E10: 5 | F10: 5 | N10: 5
A11: 437002 | B11: 特定目标类精减退职人员退休经费 | C11: 精减退职人员退休经费 | D11: 36 | E11: 36 | F11: 36 | N11: 36
A12: 437002 | B12: 特定目标类困难群众生活救助 | C12: 困难群众生活救助 | D12: 10235.25 | E12: 10235.25 | F12: 10235.25 | N12: 10235.25
A13: 437002 | B13: 特定目标类老龄办 | C13: 老龄办 | D13: 2 | E13: 2 | F13: 2 | N13: 2
A14: 437002 | B14: 特定目标类老龄办百岁老人补贴 | C14: 老龄办百岁老人补贴 | D14: 9.64 | E14: 9.64 | F14: 9.64 | N14: 9.64
A15: 437002 | B15: 特定目标类老区工作经费 | C15: 老区工作经费 | D15: 1 | E15: 1 | F15: 1 | N15: 1
A16: 437002 | B16: 特定目标类特殊群体救助 | C16: 特殊群体救助 | D16: 119.18 | E16: 119.18 | F16: 119.18 | N16: 119.18
A17: 437002 | B17: 特定目标类投诚起义 | C17: 投诚起义 | D17: 8 | E17: 8 | F17: 8 | N17: 8
A18: 437002 | B18: 特定目标类五保户 | C18: 五保户 | D18: 181 | E18: 181 | F18: 181 | N18: 181
A19: 437002 | C19: 城乡低保配套 | D19: 699 | E19: 699 | F19: 699 | N19: 699
A20: 437002 | B20: 特定目标类乡镇敬老院全失能老人护理费 | C20: 乡镇敬老院全失能老人护理费 | D20: 200 | E20: 200 | F20: 200 | N20: 200
A21: 437002 | B21: 特定目标类行政区域界线管理 | C21: 行政区域界线管理 | D21: 3 | E21: 3 | F21: 3 | N21: 3
A22: 437002 | B22: 特定目标类养老服务补贴 | C22: 养老服务补贴 | D22: 180 | E22: 180 | F22: 180 | N22: 180
A23: 437002 | B23: 特定目标类殡葬服务 | C23: 殡葬服务 | D23: 100 | E23: 100 | F23: 100 | N23: 100
A24: 437002 | C24: 福利彩票公益金 | D24: 200 | K24: 200 | N24: 200

Sheet 22项目支出绩效目标表
C2: 项目支出绩效目标表
A3: 单位：437002-岳阳县民政局机关 | L3: 金额单位：万元
A4: 单位代码 | B4: 单位（专项）名称 | C4: 资金总额 | D4: 实施期绩效目标 | E4: 绩效指标
E5: 一级指标 | F5: 二级指标 | G5: 三级指标 | H5: 指标值 | I5: 指标值内容 | J5: 评（扣分标准） | K5: 度量单位 | L5: 指标值类型 | M5: 备注
A6: 437002 | B6: 岳阳县民政局机关 | C6: 11983.57
A7: 437002 | B7: 城乡低保配套 | C7: 699 | D7: 应保尽保，应退尽退，确保精准。 | E7: 产出指标 | F7: 时效指标 | G7: 补助资金发放时间 | H7: ≤天 | I7: 补助资金按月发放 | J7: 未达指标值的按标准扣分 | K7: 天 | L7: 定量
F8: 质量指标 | G8: 补助资金发放率 | H8: ≥100% | I8: 补助资金发放率100% | J8: 未达指标值的按标准扣分 | K8: % | L8: 定量
F9: 数量指标 | G9: 补助个人数量 | H9: ≥1014人 | I9: 补助1014人 | J9: 未达指标值的按标准扣分 | K9: 人 | L9: 定量
F10: 生态环境成本指标 | G10: 无 | H10: 无 | I10: 无 | J10: 无 | K10: 无 | L10: 定性
F11: 经济成本指标 | G11: 预算控制数 | H11: ≤699 | I11: 补贴总金额699万元 | J11: 未达指标值的按标准扣分 | K11: 元 | L11: ≤
F12: 社会成本指标 | G12: 无 | H12: 无 | I12: 无 | J12: 无 | K12: 无 | L12: 定性
E13: 效益指标 | F13: 经济效益指标 | G13: 经济收入 | H13: 有所增长 | I13: 补助人群经济有所增长 | J13: 未达指标值的按标准扣分 | K13: % | L13: 定性
F14: 生态效益指标 | G14: 无 | H14: 无 | I14: 无 | J14: 无 | K14: 无 | L14: 定性
F15: 社会效益指标 | G15: 补助人群生活改善情况 | H15: 有所提升 | I15: 补助人群生活有所提升 | J15: 未达指标值的按标准扣分 | K15: % | L15: 定性
E16: 满意度指标 | F16: 服务对象满意度指标 | G16: 群众满意度 | H16: ≥98% | I16: 群众满意度 | J16: 未达指标值的按标准扣分 | K16: % | L16: ≥
A17: 437002 | B17: 街道路牌及界牌 | C17: 5 | D17: 应保尽保，应退尽退，确保精准。 | E17: 产出指标 | F17: 经济成本指标 | G17: 预算控制数 | H17: 50000 | I17: 街道路牌及界牌50000元 | J17: 未达指标值的按标准扣分 | K17: 元 | L17: 定量
F18: 社会成本指标 | G18: 无 | H18: 无 | I18: 无 | J18: 无 | K18: 无 | L18: 定性
F19: 生态环境成本指标 | G19: 无 | H19: 无 | I19: 无 | J19: 无 | K19: 无 | L19: 定性
F20: 数量指标 | G20: 路牌设置 | H20: 个 | I20: 做路牌100个 | J20: 未达指标值的按标准扣分 | K20: 个 | L20: 定量
F21: 质量指标 | G21: 路牌覆盖率 | H21: ≥98% | I21: 确保精准 | J21: 未达指标值的按标准扣分 | K21: % | L21: 定量
F22: 时效指标 | G22: 2022年 | H22: ≤天 | I22: 2022年年底到位 | J22: 未达指标值的按标准扣分 | K22: 天 | L22: 定量
E23: 效益指标 | F23: 经济效益指标 | G23: 无 | H23: 无 | I23: 无 | J23: 无 | K23: 无 | L23: 定性
F24: 社会效益指标 | G24: 补助人群生活改善情况 | H24: 有所提升 | I24: 补助人群生活有所提升 | J24: 未达指标值的按标准扣分 | K24: 无 | L24: 定性
F25: 生态效益指标 | G25: 无 | H25: 无 | I25: 无 | J25: 无 | K25: 无 | L25: 定性
E26: 满意度指标 | F26: 服务对象满意度指标 | G26: 受益对象满意度 | H26: ≥95% | I26: 受益对象满意度 | J26: 未达指标值的按标准扣分 | K26: % | L26: 定量
A27: 437002 | B27: 精减退职人员退休经费 | C27: 36 | D27: 应保尽保，应退尽退，确保精准。 | E27: 产出指标 | F27: 经济成本指标 | G27: 预算控制数 | H27: 360000 | I27: 补贴总金额360000元 | J27: 未达指标值的按标准扣分 | K27: 元 | L27: 定量
F28: 社会成本指标 | G28: 无 | H28: 无 | I28: 无 | J28: 无 | K28: 无 | L28: 定性
F29: 生态环境成本指标 | G29: 无 | H29: 无 | I29: 无 | J29: 无 | K29: 无 | L29: 定性
F30: 数量指标 | G30: 补助个人数量 | H30: ≥600人 | I30: 补助600人 | J30: 未达指标值的按标准扣分 | K30: 人 | L30: 定量
F31: 时效指标 | G31: 补助资金发放时间 | H31: ≤天 | I31: 补助资金按月发放 | J31: 未达指标值的按标准扣分 | K31: 天 | L31: 定量
F32: 质量指标 | G32: 补助资金发放率 | H32: ≥100% | I32: 补助资金发放率100% | J32: 未达指标值的按标准扣分 | K32: % | L32: 定量
E33: 满意度指标 | F33: 服务对象满意度指标 | G33: 受益对象满意度 | H33: ≥95% | I33: 受益对象满意度 | J33: 未达指标值的按标准扣分 | K33: % | L33: ≥
E34: 效益指标 | F34: 经济效益指标 | G34: 经济收入 | H34: 有所增长 | I34: 补助人群经济有所增长 | J34: 未达指标值的按标准扣分 | K34: % | L34: 定性
F35: 社会效益指标 | G35: 补助人群生活改善情况 | H35: 有所提升 | I35: 补助人群生活有所提升 | J35: 未达指标值的按标准扣分 | K35: % | L35: 定性
F36: 生态效益指标 | G36: 无 | H36: 无 | I36: 无 | J36: 无 | K36: 无 | L36: 定性
A37: 437002 | B37: 困难群众生活救助 | C37: 10235.25 | D37: 应保尽保，应退尽退，确保精准。 | E37: 产出指标 | F37: 经济成本指标 | G37: 预算控制数 | H37: 3000元/人 | I37: 补贴总金额10235.25万元 | J37: 未达指标值的按标准扣分 | K37: 元/人 | L37: 定量
F38: 社会成本指标 | G38: 无 | H38: 无 | I38: 无 | J38: 无 | K38: 无 | L38: 定性
F39: 时效指标 | G39: 补助资金发放时间 | H39: ≤天 | I39: 补助资金按月发放 | J39: 未达指标值的按标准扣分 | K39: 天 | L39: 定量
F40: 质量指标 | G40: 补助资金发放率 | H40: ≥100% | I40: 补助资金发放率100% | J40: 未达指标值的按标准扣分 | K40: xx% | L40: 定量
F41: 数量指标 | G41: 补助个人数量 | H41: ≥300000人 | I41: 补助300000人 | J41: 未达指标值的按标准扣分 | K41: 人 | L41: 定量
...

Sheet 23整体支出绩效目标表
A1: 整体支出绩效目标表
A2: 单位：岳阳县民政局机关 | Q2: 金额单位：万元
A3: 单位编码 | B3: 单位名称 | C3: 年度预算申请 | J3: 整体绩效目标 | K3: 部门整体支出年度绩效目标
C4: 资金总额 | D4: 按收入性质分 | H4: 按支出性质分
D5: 一般公共预算 | E5: 政府性基金拨款 | F5: 财政专户管理资金 | G5: 其他资金 | H5: 基本支出 | I5: 项目支出 | K5: 一级指标 | L5: 二级指标 | M5: 三级指标 | N5: 指标值类型 | O5: 指标值 | P5: 度量单位 | Q5: 指标值说明 | R5: 备注
A6: 437002 | B6: 岳阳县民政局机关 | C6: 12559.33 | D6: 12359.33 | E6: 200 | H6: 575.75595 | I6: 11983.57 | J6: 保障民政局及下属救助管理站、低保管理中心、殡葬执法大队、婚姻登记中心工作 | K6: 产出指标 | L6: 重点工作任务完成 | M6: 资金使用率 | N6: 定性 | O6: ≥100% | Q6: 资金使用率≥100%
L7: 履职目标实现 | M7: 资金到位期限 | N7: 定性 | O7: 2022年12月 | Q7: 2022年12月底到位
K8: 效益指标 | L8: 履职效益 | M8: 履职效益 | N8: 定性 | O8: 社会救助服务政策知晓率 | Q8: 社会救助服务政策知晓率≥98%
L9: 满意度 | M9: 群众满意度 | N9: ≥ | O9: 98 | P9: % | Q9: 群众满意度≥98%
